BEGIN:VCALENDAR
PRODID:-//PUBBLE//agenda//NL
VERSION:2.0
METHOD:PUBLISH
BEGIN:VEVENT
DTSTART:20260328T190000Z
DTEND:20260328T200000Z
DTSTAMP:20260419T132320Z
UID:59a520a2-311f-44cf-89be-b995b4bc40a5
CREATED:20260419T132320Z
NAME:Back to Basic - Dansfestijn in de Pol doetinchemsvizier.nl
X-WR-CALNAME:Back to Basic - Dansfestijn in de Pol
X-ALT-DESC;FMTTYPE=text/html:<a href='/agenda/2026/3/28/back-to-basic-dansfestijn-in-de-pol-541482'>/agenda/2026/3/28/back-to-basic-dansfestijn-in-de-pol-541482</a> || <p>Op 28 maart vanaf 21.00 uur wordt er een spetterend dansfeest georganiseerd in de Pol in Aalten. Deze avond brengt een mix van house, trance en techno in een intieme, eigenzinnige sfeer. Het is dé gelegenheid de vibe te pakken en niet meer los te laten. Tickets zijn in de voorverkoop € 6,-, aan de deur €11,- Mis deze kans niet om met Back to Basic een onvergetelijke avond te beleven.<br><br>Tickets: <a href="https://depol-aalten" target="_blank">https://depol-aalten</a>.nl/backtobasic</p>
DESCRIPTION:<a href='/agenda/2026/3/28/back-to-basic-dansfestijn-in-de-pol-541482'>/agenda/2026/3/28/back-to-basic-dansfestijn-in-de-pol-541482</a> || <p>Op 28 maart vanaf 21.00 uur wordt er een spetterend dansfeest georganiseerd in de Pol in Aalten. Deze avond brengt een mix van house, trance en techno in een intieme, eigenzinnige sfeer. Het is dé gelegenheid de vibe te pakken en niet meer los te laten. Tickets zijn in de voorverkoop € 6,-, aan de deur €11,- Mis deze kans niet om met Back to Basic een onvergetelijke avond te beleven.<br><br>Tickets: <a href="https://depol-aalten" target="_blank">https://depol-aalten</a>.nl/backtobasic</p>
LAST-MODIFIED:20260419T132320Z
LOCATION: Gemeenschapshuis De Pol Aalten | Polstraat 7 Aalten
SEQUENCE:0
STATUS:CONFIRMED
SUMMARY:Back to Basic - Dansfestijn in de Pol
TRANSP:OPAQUE
END:VEVENT
END:VCALENDAR
